BEGIN:VCALENDAR
VERSION:2.0
PRODID:-//ChamberMaster//Event Calendar 2.0//EN
METHOD:PUBLISH
X-PUBLISHED-TTL:P3D
REFRESH-INTERVAL:P3D
CALSCALE:GREGORIAN
BEGIN:VEVENT
DTSTART:20260410T220000Z
DTEND:20260411T000000Z
X-MICROSOFT-CDO-ALLDAYEVENT:FALSE
SUMMARY:Handmade Soap Making Workshop
DESCRIPTION:Join Ginger from Soapbox for a hands-on natural soapmaking workshop designed to help you create safer\, high-quality soap for yourself and your family.\n\n \n\nWhy Learn to Make Natural Soap?\n\n  Skin is a semi-permeable membrane   what you put on it can eventually enter your bloodstream\n\n  What enters your blood is processed by your kidneys and liver\n\n  Making your own soap gives you full control over the ingredients\n\n \n\nWhat You'll Learn & Experience\n\n  Step-by-step instruction on how to make natural soap from scratch (including lye safety)\n\n  The history of soap and how to recognize a truly good bar\n\n  Three easy natural soap recipes to try at home (with detailed instructions)\n\n  Helpful soapmaking resources for continued learning\n\nYou'll create your own loaf of soap   about 4 5 bars (approximately 1.3 pounds)   to take home. That's enough soap to last a few months\, and it also makes practical\, low-waste gifts.
X-ALT-DESC;FMTTYPE=text/html:<div>Join Ginger from Soapbox for a hands-on natural soapmaking workshop designed to help you create safer\, high-quality soap for yourself and your family.<br />\n&nbsp\;</div>\n\n<div>Why Learn to Make Natural Soap?</div>\n\n<div>&bull\; Skin is a semi-permeable membrane &mdash\; what you put on it can eventually enter your bloodstream<br />\n&bull\; What enters your blood is processed by your kidneys and liver<br />\n&bull\; Making your own soap gives you full control over the ingredients<br />\n&nbsp\;</div>\n\n<div>What You&rsquo\;ll Learn &amp\; Experience</div>\n\n<div>&bull\; Step-by-step instruction on how to make natural soap from scratch (including lye safety)<br />\n&bull\; The history of soap and how to recognize a truly good bar<br />\n&bull\; Three easy natural soap recipes to try at home (with detailed instructions)<br />\n&bull\; Helpful soapmaking resources for continued learning</div>\n\n<div>You&rsquo\;ll create your own loaf of soap &mdash\; about 4&ndash\;5 bars (approximately 1.3 pounds) &mdash\; to take home. That&rsquo\;s enough soap to last a few months\, and it also makes practical\, low-waste gifts.</div>\n
LOCATION:Nature's Food Patch 1225 Cleveland St Clearwater\, FL 33755 This workshop will be held in our community room next door.
UID:e.2521.11174
SEQUENCE:3
DTSTAMP:20260425T164017Z
URL:http://dunedinfl.chambermaster.com/events/details/handmade-soap-making-workshop-11174
END:VEVENT

END:VCALENDAR
